BEGIN:VCALENDAR
VERSION:2.0
PRODID:-//ChamberMaster//Event Calendar 2.0//EN
METHOD:PUBLISH
X-PUBLISHED-TTL:P3D
REFRESH-INTERVAL:P3D
CALSCALE:GREGORIAN
BEGIN:VEVENT
DTSTART:20220610T000000Z
DTEND:20220610T030000Z
X-MICROSOFT-CDO-ALLDAYEVENT:FALSE
SUMMARY:2022 Sagebrush Spectacular
DESCRIPTION:Pickleball Palooza\n\nGiant Alumni and Family Party\n\n\n\nClinic:\n\nBeginner and intermediate players can learn from certified instructors how to play pickleball in small groups.\n\nClinic begins at 6 and there is a $5 charge.\n\nSpace is limiter so register soon!\n\nTo register for clinic:  brighamcity.activityreg.com (435) 734-6610\n\n\n\nPalooza:\n\nBBQ dinner with Aggie Ice Cream - 7 PM\n\nPalooza Celebrity Battle - 7:30 PM\n\nPaddle tossing challenge\, family friendly games\, Aggie merchandise available for sale\, pickleball courts available for open play. \n\nThere is a $5 charge for adult and children for dinner and games.\n\nTo register for Palooza:  brighamcity.activityreg.com
X-ALT-DESC;FMTTYPE=text/html:Pickleball Palooza<br />\nGiant Alumni and Family Party<br />\n<br />\nClinic:<br />\nBeginner and intermediate players can learn from certified instructors how to play pickleball in small groups.<br />\nClinic begins at 6 and there is a $5 charge.<br />\nSpace is limiter so register soon!<br />\nTo register for clinic:&nbsp\; brighamcity.activityreg.com (435) 734-6610<br />\n<br />\nPalooza:<br />\nBBQ dinner with Aggie Ice Cream - 7 PM<br />\nPalooza Celebrity Battle - 7:30 PM<br />\nPaddle tossing challenge\, family friendly games\, Aggie merchandise available for sale\, pickleball courts available for open play.&nbsp\;<br />\nThere is a $5 charge for adult and children for dinner and games.<br />\nTo register for Palooza:&nbsp\; brighamcity.activityreg.com
LOCATION:Brigham City Pickleball Courts 221 North 600 West
UID:e.3285.3577
SEQUENCE:3
DTSTAMP:20260422T083426Z
URL:https://members.boxelderchamber.com/events/details/2022-sagebrush-spectacular-3577
END:VEVENT

END:VCALENDAR
