BEGIN:VCALENDAR
VERSION:2.0
PRODID:-//ChamberMaster//Event Calendar 2.0//EN
METHOD:PUBLISH
X-PUBLISHED-TTL:P3D
REFRESH-INTERVAL:P3D
CALSCALE:GREGORIAN
BEGIN:VEVENT
DTSTART:20231022T010000Z
DTEND:20231022T033000Z
X-MICROSOFT-CDO-ALLDAYEVENT:FALSE
SUMMARY:Box Elder High School's HOSA Haunted House
DESCRIPTION:Box Elder High School HOSA Haunted House Fundraiser is family friendly and a fun night out.  Kid's carnival\, games\, free hot chocolate!
X-ALT-DESC;FMTTYPE=text/html:Box Elder High School HOSA Haunted House Fundraiser is family friendly and a fun night out.&nbsp\; Kid&#39\;s carnival\, games\, free hot chocolate!
LOCATION:Box Elder High School (380 South 600 West Brigham)
UID:e.3285.4171
SEQUENCE:3
DTSTAMP:20260423T204901Z
URL:https://members.boxelderchamber.com/events/details/box-elder-high-school-s-hosa-haunted-house-4171
END:VEVENT

END:VCALENDAR
