BEGIN:VCALENDAR
VERSION:2.0
PRODID:-//ChamberMaster//Event Calendar 2.0//EN
METHOD:PUBLISH
X-PUBLISHED-TTL:P3D
REFRESH-INTERVAL:P3D
CALSCALE:GREGORIAN
BEGIN:VEVENT
DTSTART:20230921T130000Z
DTEND:20230921T200000Z
X-MICROSOFT-CDO-ALLDAYEVENT:FALSE
SUMMARY:Box Elder School District Foundation Golf Tournament
DESCRIPTION:Box Elder School District Foundation will hold the fall golf tournament at Eagle Mountain Golf Course on Thursday\, September 21\, 2023.  Registration begins at 7:30 am.  Registration and flyer information are located at https://www.besd.net/page/upcoming-events-foundation.  Contact Marci Hatch at 435-538-1501 for more information.
X-ALT-DESC;FMTTYPE=text/html:Box Elder School District Foundation will hold the fall golf tournament at Eagle Mountain Golf Course on Thursday\, September 21\, 2023.&nbsp\; Registration begins at 7:30 am.&nbsp\; Registration and flyer information are located at&nbsp\;<a href="https://www.besd.net/page/upcoming-events-foundation">https://www.besd.net/page/upcoming-events-foundation</a>.&nbsp\; Contact Marci Hatch at 435-538-1501 for more information.
LOCATION:Eagle Mountain Golf Course 960 E 700 S Brigham City\, UT 84302
UID:e.3285.4129
SEQUENCE:3
DTSTAMP:20260420T153704Z
URL:https://members.boxelderchamber.com/events/details/box-elder-school-district-foundation-golf-tournament-4129
END:VEVENT

END:VCALENDAR
