BEGIN:VCALENDAR
VERSION:2.0
PRODID:-//ChamberMaster//Event Calendar 2.0//EN
METHOD:PUBLISH
X-PUBLISHED-TTL:P3D
REFRESH-INTERVAL:P3D
CALSCALE:GREGORIAN
BEGIN:VEVENT
DTSTART:20231028T180000Z
DTEND:20231028T210000Z
X-MICROSOFT-CDO-ALLDAYEVENT:FALSE
SUMMARY:Boys and Girls Club: Halloween Carnival
DESCRIPTION:Come join the Boys and Girls club at their annual Halloween Carival
X-ALT-DESC;FMTTYPE=text/html:Come join the Boys and Girls club at their annual Halloween Carival
LOCATION:Members First Credit Untion 120 E 1000 S Brigham City\, UT 84302
UID:e.3285.4143
SEQUENCE:3
DTSTAMP:20260423T205413Z
URL:https://members.boxelderchamber.com/events/details/boys-and-girls-club-halloween-carnival-4143
END:VEVENT

END:VCALENDAR
