BEGIN:VCALENDAR
VERSION:2.0
PRODID:-//ChamberMaster//Event Calendar 2.0//EN
METHOD:PUBLISH
X-PUBLISHED-TTL:P3D
REFRESH-INTERVAL:P3D
CALSCALE:GREGORIAN
BEGIN:VEVENT
DTSTART:20250208T010000Z
DTEND:20250208T040000Z
X-MICROSOFT-CDO-ALLDAYEVENT:FALSE
SUMMARY:Boys and Girls Super Bowl Club Casino/Bingo Night
DESCRIPTION:Join the Boys and Girls Club of Northern Utah for their 3rd Annual Super Bowl Casino/Bingo night!  This is a great FUNdraiser for Club programming in Box Elder and Cache Counties!
X-ALT-DESC;FMTTYPE=text/html:Join the Boys and Girls Club of Northern Utah for their 3rd Annual Super Bowl Casino/Bingo night!&nbsp\; This is a great FUNdraiser for Club programming in Box Elder and Cache Counties!
LOCATION:Brigham Academy Center 58 North Main Street Brigham City
UID:e.3285.4762
SEQUENCE:3
DTSTAMP:20260424T092824Z
URL:https://members.boxelderchamber.com/events/details/boys-and-girls-super-bowl-club-casino-bingo-night-4762
END:VEVENT

END:VCALENDAR
