BEGIN:VCALENDAR
VERSION:2.0
PRODID:-//ChamberMaster//Event Calendar 2.0//EN
METHOD:PUBLISH
X-PUBLISHED-TTL:P3D
REFRESH-INTERVAL:P3D
CALSCALE:GREGORIAN
BEGIN:VEVENT
DTSTART:20210529T010000Z
DTEND:20210529T030000Z
X-MICROSOFT-CDO-ALLDAYEVENT:FALSE
SUMMARY:Brenn Hill Art on Main Concert
DESCRIPTION:Brenn Hill in Concert.  This outdoor concert is free and open to the public with limited front row reserved seating available.  For ticket information visit www.visitbrighamcity.org
X-ALT-DESC;FMTTYPE=text/html:Brenn Hill in Concert.&nbsp\; This outdoor concert is free and open to the public with limited front row reserved seating available.&nbsp\; For ticket information visit www.visitbrighamcity.org&nbsp\;&nbsp\;&nbsp\;&nbsp\;
LOCATION:Brigham Academy Pavilion (58 North Main Street Brigham City)
UID:e.3285.3351
SEQUENCE:3
DTSTAMP:20260423T194621Z
URL:https://members.boxelderchamber.com/events/details/brenn-hill-art-on-main-concert-3351
END:VEVENT

END:VCALENDAR
