BEGIN:VCALENDAR
VERSION:2.0
PRODID:-//ChamberMaster//Event Calendar 2.0//EN
METHOD:PUBLISH
X-PUBLISHED-TTL:P3D
REFRESH-INTERVAL:P3D
CALSCALE:GREGORIAN
BEGIN:VEVENT
DTSTART:20260328T160000Z
DTEND:20260328T220000Z
X-MICROSOFT-CDO-ALLDAYEVENT:FALSE
SUMMARY:Brigham City Preparedness Fair
DESCRIPTION:Join Brigham City for this free community event!
X-ALT-DESC;FMTTYPE=text/html:Join Brigham City for this free community event!&nbsp\;
LOCATION:USU Brigham City Campus 989 S. Main St. Brigham City\, UT
UID:e.3285.5370
SEQUENCE:3
DTSTAMP:20260421T083524Z
URL:https://members.boxelderchamber.com/events/details/brigham-city-preparedness-fair-5370
END:VEVENT

END:VCALENDAR
