BEGIN:VCALENDAR
VERSION:2.0
PRODID:-//ChamberMaster//Event Calendar 2.0//EN
METHOD:PUBLISH
X-PUBLISHED-TTL:P3D
REFRESH-INTERVAL:P3D
CALSCALE:GREGORIAN
BEGIN:VEVENT
DTSTART:20231031T180000Z
DTEND:20231031T193000Z
X-MICROSOFT-CDO-ALLDAYEVENT:FALSE
SUMMARY:Brigham City Rotary Club's Business Lecture Series
DESCRIPTION:Interested in being your own boss?  Start a business\, a side gig\, a second income!  Presentations by Wiggins & Co CPA's (business taxes)\; DL Evans Bank (business banking)\; American Family Insurance Cortney Gregory & Associates (business insurance).
X-ALT-DESC;FMTTYPE=text/html:Interested in being your own boss?&nbsp\; Start a business\, a side gig\, a second income!&nbsp\; Presentations by Wiggins &amp\; Co CPA&#39\;s (business taxes)\; DL Evans Bank (business banking)\; American Family Insurance Cortney Gregory &amp\; Associates (business insurance).
LOCATION:Brigham Academy Center (58 North Main Street Brigham City)
UID:e.3285.4167
SEQUENCE:3
DTSTAMP:20260423T222016Z
URL:https://members.boxelderchamber.com/events/details/brigham-city-rotary-club-s-business-lecture-series-4167
END:VEVENT

END:VCALENDAR
