BEGIN:VCALENDAR
VERSION:2.0
PRODID:-//ChamberMaster//Event Calendar 2.0//EN
METHOD:PUBLISH
X-PUBLISHED-TTL:P3D
REFRESH-INTERVAL:P3D
CALSCALE:GREGORIAN
BEGIN:VEVENT
DTSTART:20231019T180000Z
DTEND:20231019T190000Z
X-MICROSOFT-CDO-ALLDAYEVENT:FALSE
SUMMARY:Chamber of Commerce Ambassador's Meeting
DESCRIPTION:Monthly Chamber of Commerce Ambassador's meeting where volunteers from member businesses meet to hear about upcoming events\, issues in regards to the community and Chamber\, and to network with each other.
X-ALT-DESC;FMTTYPE=text/html:Monthly Chamber of Commerce Ambassador's meeting where volunteers from member businesses meet to hear about upcoming events\, issues in regards to the community and Chamber\, and to network with each other.
LOCATION:Box Elder Chamber of Commerce Office (6 North Main Street Brigham City)
UID:e.3285.1030
SEQUENCE:3
DTSTAMP:20260423T205436Z
URL:https://members.boxelderchamber.com/events/details/chamber-of-commerce-ambassador-s-meeting-10-19-2023-1030
END:VEVENT

END:VCALENDAR
