BEGIN:VCALENDAR
VERSION:2.0
PRODID:-//ChamberMaster//Event Calendar 2.0//EN
METHOD:PUBLISH
X-PUBLISHED-TTL:P3D
REFRESH-INTERVAL:P3D
CALSCALE:GREGORIAN
BEGIN:VEVENT
DTSTART:20231012T170000Z
DTEND:20231012T200000Z
X-MICROSOFT-CDO-ALLDAYEVENT:FALSE
SUMMARY:D.L. Evans- Brigham City\, Customer Appreciation Event
DESCRIPTION:D.L. Evenas Brigham City customers are welcome to attend this thank you lunch and enjoy a nacho bar!
X-ALT-DESC;FMTTYPE=text/html:D.L. Evenas Brigham City customers are welcome to attend this thank you lunch and enjoy a nacho bar!&nbsp\;
LOCATION:101 S Main St Brigaham City\, UT 84302
UID:e.3285.4149
SEQUENCE:3
DTSTAMP:20260423T204815Z
URL:https://members.boxelderchamber.com/events/details/d-l-evans-brigham-city-customer-appreciation-event-4149
END:VEVENT

END:VCALENDAR
