BEGIN:VCALENDAR
VERSION:2.0
PRODID:-//ChamberMaster//Event Calendar 2.0//EN
METHOD:PUBLISH
X-PUBLISHED-TTL:P3D
REFRESH-INTERVAL:P3D
CALSCALE:GREGORIAN
BEGIN:VEVENT
DTSTART:20230609T190000Z
DTEND:20230609T220000Z
X-MICROSOFT-CDO-ALLDAYEVENT:FALSE
SUMMARY:Family Fun Day
DESCRIPTION:The Box Elder Family Support Center is pleased to put on a fantastic family celebration.
X-ALT-DESC;FMTTYPE=text/html:The Box Elder Family Support Center is pleased to put on a fantastic family celebration.&nbsp\;
LOCATION:Rees Pioneer Park Bowery 720 Forest St. Brighan City\, UT 84302
UID:e.3285.4029
SEQUENCE:3
DTSTAMP:20260422T185311Z
URL:https://members.boxelderchamber.com/events/details/family-fun-day-4029
END:VEVENT

END:VCALENDAR
