BEGIN:VCALENDAR
VERSION:2.0
PRODID:-//ChamberMaster//Event Calendar 2.0//EN
METHOD:PUBLISH
X-PUBLISHED-TTL:P3D
REFRESH-INTERVAL:P3D
CALSCALE:GREGORIAN
BEGIN:VEVENT
DTSTART:20181231T000000Z
DTEND:20181231T050000Z
X-MICROSOFT-CDO-ALLDAYEVENT:FALSE
SUMMARY:Fantasy at the Bay Christmas Lights
DESCRIPTION:Fantasy at the Bay - Holiday Lights at Willard Bay open 7 days a week from November 23 to December 31 except Christmas Day.\n\nCome see the lights\, ride the train\, enjoy some hot chocolate and toasted goodness from The Toasted Cheeser and bring the kiddies to see Santa Friday through Monday.\n\nTuesday through Thursday come to enjoy the lights (no train\, Santa or Food Truck).\n\n3-D Snowflake Glasses are $2 each or 3 for $5
X-ALT-DESC;FMTTYPE=text/html:<span>Fantasy at the Bay - Holiday Lights at Willard Bay open 7 days a week from November 23 to December 31 except Christmas Day.<br />\nCome see the lights\, ride the train\, enjoy some hot chocolate and toasted goodness from <a href="https://www.facebook.com/The-Toasted-Cheeser-1007009179322795/" target="_blank">The Toasted Cheeser</a> and bring the kiddies to see Santa Friday through Monday.<br />\nTuesday through Thursday come to enjoy the lights (no train\, Santa or Food Truck).<br />\n3-D Snowflake Glasses are $2 each or 3 for $5</span>
LOCATION:Willard Bay State Park (900 West 650 North Willard) Located off I-15 Exit 357
UID:e.3285.1327
SEQUENCE:3
DTSTAMP:20260423T191149Z
URL:https://members.boxelderchamber.com/events/details/fantasy-at-the-bay-christmas-lights-12-30-2018-1327
END:VEVENT

END:VCALENDAR
