BEGIN:VCALENDAR
VERSION:2.0
PRODID:-//ChamberMaster//Event Calendar 2.0//EN
METHOD:PUBLISH
X-PUBLISHED-TTL:P3D
REFRESH-INTERVAL:P3D
CALSCALE:GREGORIAN
BEGIN:VEVENT
DTSTART:20240614T160000Z
DTEND:20240614T173000Z
X-MICROSOFT-CDO-ALLDAYEVENT:FALSE
SUMMARY:Golden Spike National Historical Park Naturalization Ceremony
DESCRIPTION:Join Golden Spike NHP\, USCIS\, and the U. S District Court of Utah in connecting future citizens with those from the past on June 14th at 10:00 AM. Special music will be provided by Box Elder Pops Orchestra. Members of the public alongside family members are welcome to attend. There will be seating for the applicants\, but other seating will be limited. Friends\, family\, and guests are highly encouraged to bring lawn chairs or picnic blankets for seating.
X-ALT-DESC;FMTTYPE=text/html:Join Golden Spike NHP\, USCIS\, and the U. S District Court of Utah in connecting future citizens with those from the past on June 14th at 10:00 AM. Special music will be provided by Box Elder Pops Orchestra. Members of the public alongside family members are welcome to attend. There will be seating for the applicants\, but other seating will be limited. Friends\, family\, and guests are highly encouraged to bring lawn chairs or picnic blankets for seating.
LOCATION:Golden Spike NHP 6200 North 22300 West Promontory\, Utah\, UT 84307
UID:e.3285.4432
SEQUENCE:3
DTSTAMP:20260425T181435Z
URL:https://members.boxelderchamber.com/events/details/golden-spike-national-historical-park-naturalization-ceremony-4432
END:VEVENT

END:VCALENDAR
