BEGIN:VCALENDAR
VERSION:2.0
PRODID:-//ChamberMaster//Event Calendar 2.0//EN
METHOD:PUBLISH
X-PUBLISHED-TTL:P3D
REFRESH-INTERVAL:P3D
CALSCALE:GREGORIAN
BEGIN:VEVENT
DTSTART:20231020T230000Z
DTEND:20231021T030000Z
X-MICROSOFT-CDO-ALLDAYEVENT:FALSE
SUMMARY:Haunted Corn Maze Fundraiser: Apollo Theatre Company
DESCRIPTION:Come enjoy a haunted corn maze put on my the Apollo Theatre Company.
X-ALT-DESC;FMTTYPE=text/html:Come enjoy a haunted corn maze put on my the Apollo Theatre Company.&nbsp\;
LOCATION:5156 N HWY 38\, Brigham City\, UT 84302
UID:e.3285.4162
SEQUENCE:3
DTSTAMP:20260423T221751Z
URL:https://members.boxelderchamber.com/events/details/haunted-corn-maze-fundraiser-apollo-theatre-company-4162
END:VEVENT

END:VCALENDAR
