BEGIN:VCALENDAR
VERSION:2.0
PRODID:-//ChamberMaster//Event Calendar 2.0//EN
METHOD:PUBLISH
X-PUBLISHED-TTL:P3D
REFRESH-INTERVAL:P3D
CALSCALE:GREGORIAN
BEGIN:VEVENT
DTSTART:20260509T170000Z
DTEND:20260509T190000Z
X-MICROSOFT-CDO-ALLDAYEVENT:FALSE
SUMMARY:Made with Mom
DESCRIPTION:Make this Mother's Day memorable with a creative morning at the museum! Bring your mom\, grandma\, aunt\, or any mother figure in your life to upcycle thrift store art\, snack\, and make memories together. Plus\, we will have a craft station for kids to make their very own gift for Mom for Mother's Day! All ages welcome. The museum will provide all of the supplies and refreshments\, all you need to do is come and have fun! Registration is not required\, but is encouraged. RSVP at the link below! https://museum.bcutah.gov/event/made-with-mom/
X-ALT-DESC;FMTTYPE=text/html:Make this Mother&#39\;s Day memorable with a creative morning at the museum! Bring your mom\, grandma\, aunt\, or any mother figure in your life to upcycle thrift store art\, snack\, and make memories together. Plus\, we will have a craft station for kids to make their very own gift for Mom for Mother&#39\;s Day! All ages welcome. The museum will provide all of the supplies and refreshments\, all you need to do is come and have fun! Registration is not required\, but is encouraged. RSVP at the link below! https://museum.bcutah.gov/event/made-with-mom/
LOCATION:Brigham City Museum of Art and History 24 N 300 W\, Brigham City\, Utah
UID:e.3285.5383
SEQUENCE:3
DTSTAMP:20260420T083309Z
URL:https://members.boxelderchamber.com/events/details/made-with-mom-5383
END:VEVENT

END:VCALENDAR
