BEGIN:VCALENDAR
VERSION:2.0
PRODID:-//ChamberMaster//Event Calendar 2.0//EN
METHOD:PUBLISH
X-PUBLISHED-TTL:P3D
REFRESH-INTERVAL:P3D
CALSCALE:GREGORIAN
BEGIN:VEVENT
DTSTART:20231012T133000Z
DTEND:20231012T150000Z
X-MICROSOFT-CDO-ALLDAYEVENT:FALSE
SUMMARY:Meet the Candidates Event - Brigham City Council Candidates
DESCRIPTION:Meet the Candidates Event for Brigham City Councilmember Candidates.
X-ALT-DESC;FMTTYPE=text/html:Meet the Candidates Event for Brigham City Councilmember Candidates.&nbsp\;&nbsp\;
LOCATION:Brigham Academy Center (58 North Main Street Brigham City)
UID:e.3285.4137
SEQUENCE:3
DTSTAMP:20260423T205424Z
URL:https://members.boxelderchamber.com/events/details/meet-the-candidates-event-brigham-city-council-candidates-4137
END:VEVENT

END:VCALENDAR
