BEGIN:VCALENDAR
VERSION:2.0
PRODID:-//ChamberMaster//Event Calendar 2.0//EN
METHOD:PUBLISH
X-PUBLISHED-TTL:P3D
REFRESH-INTERVAL:P3D
CALSCALE:GREGORIAN
BEGIN:VEVENT
DTSTART:20231019T133000Z
DTEND:20231019T150000Z
X-MICROSOFT-CDO-ALLDAYEVENT:FALSE
SUMMARY:Meet the Candidates Event - Tremotnon & Garland Council Candidates
DESCRIPTION:Meet the Candidates Event for Tremonton & Garland Councilmember Candidates.
X-ALT-DESC;FMTTYPE=text/html:Meet the Candidates Event for Tremonton &amp\; Garland Councilmember Candidates.&nbsp\;&nbsp\;
LOCATION:Hampton Inn Tremonton (2145 West Main Street)
UID:e.3285.4138
SEQUENCE:3
DTSTAMP:20260423T205618Z
URL:https://members.boxelderchamber.com/events/details/meet-the-candidates-event-tremotnon-garland-council-candidates-4138
END:VEVENT

END:VCALENDAR
