BEGIN:VCALENDAR
VERSION:2.0
PRODID:-//ChamberMaster//Event Calendar 2.0//EN
METHOD:PUBLISH
X-PUBLISHED-TTL:P3D
REFRESH-INTERVAL:P3D
CALSCALE:GREGORIAN
BEGIN:VEVENT
DTSTART:20210508T160000Z
DTEND:20210509T000000Z
X-MICROSOFT-CDO-ALLDAYEVENT:FALSE
SUMMARY:Mother's Day Craft Fair
DESCRIPTION:Mother's Day Craft Fair\n\nLooking for the perfect gift?\n\nLots of amazing vendors under one roof.  Come and enjoy live entertainment!  Pony Rides! Mariachi (Sat May 8 2 - 4 p.m.)\, Country singers Friday and Saturday afternoon.\n\nFood Trucks - Great food and drinks\n\nWaterpolo fundraiser selling hanging baskets
X-ALT-DESC;FMTTYPE=text/html:Mother&#39\;s Day Craft Fair<br />\nLooking for the perfect gift?<br />\nLots of amazing vendors under one roof.&nbsp\; Come and enjoy live entertainment!&nbsp\; Pony Rides! Mariachi (Sat May 8 2 - 4 p.m.)\, Country singers Friday and Saturday afternoon.<br />\nFood Trucks - Great food and drinks<br />\nWaterpolo fundraiser selling hanging baskets
LOCATION:Box Elder County Fairgrounds (320 North 1000 West Tremonton)
UID:e.3285.3354
SEQUENCE:3
DTSTAMP:20260423T194707Z
URL:https://members.boxelderchamber.com/events/details/mother-s-day-craft-fair-05-08-2021-3354
END:VEVENT

END:VCALENDAR
