BEGIN:VCALENDAR
VERSION:2.0
PRODID:-//ChamberMaster//Event Calendar 2.0//EN
METHOD:PUBLISH
X-PUBLISHED-TTL:P3D
REFRESH-INTERVAL:P3D
CALSCALE:GREGORIAN
BEGIN:VEVENT
DTSTART:20231025T140000Z
DTEND:20231025T190000Z
X-MICROSOFT-CDO-ALLDAYEVENT:FALSE
SUMMARY:Northern Utah Manufacturing Excellence Conference
DESCRIPTION:
X-ALT-DESC;FMTTYPE=text/html:
LOCATION:Cache Bount Event Center 490 S 500 W - Logan
UID:e.3285.4141
SEQUENCE:3
DTSTAMP:20260423T204937Z
URL:https://members.boxelderchamber.com/events/details/northern-utah-manufacturing-excellence-conference-4141
END:VEVENT

END:VCALENDAR
