BEGIN:VCALENDAR
VERSION:2.0
PRODID:-//ChamberMaster//Event Calendar 2.0//EN
METHOD:PUBLISH
X-PUBLISHED-TTL:P3D
REFRESH-INTERVAL:P3D
CALSCALE:GREGORIAN
BEGIN:VEVENT
DTSTART;VALUE=DATE:20220610
DTEND;VALUE=DATE:20220612
TRANSP:TRANSPARENT
X-MICROSOFT-CDO-ALLDAYEVENT:TRUE
SUMMARY:Open Tournament
DESCRIPTION:Open Tournament\n\nRound Robin Style\n\nSkill levels - 3.0 3.5 4.0 4.5+\n\nEvents include:  singles\, mixed\, men's\, women's\n\nWinners receive medals\n\nTournament t-shirts for all participants\n\n6 teams per division with 8 teams max\n\nMultiple divisions will be created if more that 6 teams play
X-ALT-DESC;FMTTYPE=text/html:Open Tournament<br />\nRound Robin Style<br />\nSkill levels - 3.0 3.5 4.0 4.5+<br />\nEvents include:&nbsp\; singles\, mixed\, men&#39\;s\, women&#39\;s<br />\nWinners receive medals<br />\nTournament t-shirts for all participants<br />\n6 teams per division with 8 teams max<br />\nMultiple divisions will be created if more that 6 teams play
LOCATION:221 North 600 West Brigham City Utah
UID:e.3285.3579
SEQUENCE:3
DTSTAMP:20260422T095527Z
URL:https://members.boxelderchamber.com/events/details/open-tournament-3579
END:VEVENT

END:VCALENDAR
