BEGIN:VCALENDAR
VERSION:2.0
PRODID:-//ChamberMaster//Event Calendar 2.0//EN
METHOD:PUBLISH
X-PUBLISHED-TTL:P3D
REFRESH-INTERVAL:P3D
CALSCALE:GREGORIAN
BEGIN:VEVENT
DTSTART:20231011T000000Z
DTEND:20231011T020000Z
X-MICROSOFT-CDO-ALLDAYEVENT:FALSE
SUMMARY:Perry City: New City hall Building Open House
DESCRIPTION:There will be a ribbon-cutting for the new Perry City\, City Hall Building.
X-ALT-DESC;FMTTYPE=text/html:There will be a ribbon-cutting for the new Perry City\, City Hall Building.&nbsp\;
LOCATION:1950 S Highway 89 Perry\, UT 84302
UID:e.3285.4155
SEQUENCE:3
DTSTAMP:20260423T205106Z
URL:https://members.boxelderchamber.com/events/details/perry-city-new-city-hall-building-open-house-4155
END:VEVENT

END:VCALENDAR
