BEGIN:VCALENDAR
VERSION:2.0
PRODID:-//ChamberMaster//Event Calendar 2.0//EN
METHOD:PUBLISH
X-PUBLISHED-TTL:P3D
REFRESH-INTERVAL:P3D
CALSCALE:GREGORIAN
BEGIN:VEVENT
DTSTART:20231012T160000Z
DTEND:20231012T163000Z
X-MICROSOFT-CDO-ALLDAYEVENT:FALSE
SUMMARY:Ribbon Cutting for Bear River Valley Hospital's New ER
DESCRIPTION:Ribbon Cutting Ceremony for Intermountain Health's Bear River Valley Hospital's new emergency room.
X-ALT-DESC;FMTTYPE=text/html:Ribbon Cutting Ceremony for Intermountain Health&#39\;s Bear River Valley Hospital&#39\;s new emergency room.
LOCATION:905 North 1000 West Tremonton
UID:e.3285.4132
SEQUENCE:3
DTSTAMP:20260423T205251Z
URL:https://members.boxelderchamber.com/events/details/ribbon-cutting-for-bear-river-valley-hospital-s-new-er-4132
END:VEVENT

END:VCALENDAR
