BEGIN:VCALENDAR
VERSION:2.0
PRODID:-//ChamberMaster//Event Calendar 2.0//EN
METHOD:PUBLISH
X-PUBLISHED-TTL:P3D
REFRESH-INTERVAL:P3D
CALSCALE:GREGORIAN
BEGIN:VEVENT
DTSTART:20230914T190000Z
DTEND:20230914T193000Z
X-MICROSOFT-CDO-ALLDAYEVENT:FALSE
SUMMARY:Ribbon Cutting for Corbridge Podiatry
DESCRIPTION:Ribbon Cutting for Corbridge Podiatry
X-ALT-DESC;FMTTYPE=text/html:Ribbon Cutting for Corbridge Podiatry&nbsp\;&nbsp\;&nbsp\;&nbsp\;
LOCATION:903 South Main Street Brigham City
UID:e.3285.4130
SEQUENCE:3
DTSTAMP:20260420T153341Z
URL:https://members.boxelderchamber.com/events/details/ribbon-cutting-for-corbridge-podiatry-4130
END:VEVENT

END:VCALENDAR
