BEGIN:VCALENDAR
VERSION:2.0
PRODID:-//ChamberMaster//Event Calendar 2.0//EN
METHOD:PUBLISH
X-PUBLISHED-TTL:P3D
REFRESH-INTERVAL:P3D
CALSCALE:GREGORIAN
BEGIN:VEVENT
DTSTART:20231027T220000Z
DTEND:20231028T000000Z
X-MICROSOFT-CDO-ALLDAYEVENT:FALSE
SUMMARY:Right Deal Auto Sales: Trunk or Treat
DESCRIPTION:Come join Right Deal Auto Sales during their Halloween Trunk or Treat!
X-ALT-DESC;FMTTYPE=text/html:Come join Right Deal Auto Sales during their Halloween Trunk or Treat!&nbsp\;
LOCATION:2090 S Hwy Perry\, UT 84302
UID:e.3285.4144
SEQUENCE:3
DTSTAMP:20260423T205233Z
URL:https://members.boxelderchamber.com/events/details/right-deal-auto-sales-trunk-or-treat-4144
END:VEVENT

END:VCALENDAR
