BEGIN:VCALENDAR
VERSION:2.0
PRODID:-//ChamberMaster//Event Calendar 2.0//EN
METHOD:PUBLISH
X-PUBLISHED-TTL:P3D
REFRESH-INTERVAL:P3D
CALSCALE:GREGORIAN
BEGIN:VEVENT
DTSTART:20210822T013000Z
DTEND:20210822T055500Z
X-MICROSOFT-CDO-ALLDAYEVENT:FALSE
SUMMARY:Sunset Engine Run & Night Sky Program
DESCRIPTION:Golden Spike National Historical Park invites you to join us for a family fun evening. There will be a dramatic sunset run of the locomotives Jupiter and 119. A great opportunity to take some amazing photos of the engines! Following the sunset run\, there will be a "Star Party". This will feature a ranger presentation in the Visitor Center auditorium\, and a night sky viewing program featuring astronomers from University of Utah and an astrophotography demonstration from local astronomers. Sunset Ranger Program Begins at 7:50 pm
X-ALT-DESC;FMTTYPE=text/html:Golden Spike National Historical Park invites you to join us for a family fun evening. There will be a dramatic sunset run of the locomotives Jupiter and 119. A great opportunity to take some amazing photos of the engines! Following the sunset run\, there will be a &quot\;Star Party&quot\;. This will feature a ranger presentation in the Visitor Center auditorium\, and a night sky viewing program featuring astronomers from University of Utah and an astrophotography demonstration from local astronomers. Sunset Ranger Program Begins at 7:50 pm
LOCATION:Golden Spike National Historical Park
UID:e.3285.3379
SEQUENCE:3
DTSTAMP:20260423T180711Z
URL:https://members.boxelderchamber.com/events/details/sunset-engine-run-night-sky-program-3379
END:VEVENT

END:VCALENDAR
