BEGIN:VCALENDAR
VERSION:2.0
PRODID:-//ChamberMaster//Event Calendar 2.0//EN
METHOD:PUBLISH
X-PUBLISHED-TTL:P3D
REFRESH-INTERVAL:P3D
CALSCALE:GREGORIAN
BEGIN:VEVENT
DTSTART:20210725T023000Z
DTEND:20210725T050000Z
X-MICROSOFT-CDO-ALLDAYEVENT:FALSE
SUMMARY:Tremonton Hay Days
DESCRIPTION:Tremonton City Hay Days fun filled day with lots of different activities!
X-ALT-DESC;FMTTYPE=text/html:Tremonton City Hay Days fun filled day with lots of different activities!
LOCATION:Jeanie Stevens Park (700 North 1000 West) Tremonton
UID:e.3285.3373
SEQUENCE:3
DTSTAMP:20260420T061216Z
URL:https://members.boxelderchamber.com/events/details/tremonton-hay-days-07-24-2021-3373
END:VEVENT

END:VCALENDAR
