BEGIN:VCALENDAR
VERSION:2.0
PRODID:-//ChamberMaster//Event Calendar 2.0//EN
METHOD:PUBLISH
X-PUBLISHED-TTL:P3D
REFRESH-INTERVAL:P3D
CALSCALE:GREGORIAN
BEGIN:VEVENT
DTSTART:20231028T180000Z
DTEND:20231028T200000Z
X-MICROSOFT-CDO-ALLDAYEVENT:FALSE
SUMMARY:Trick - or - Treat: Kents Market
DESCRIPTION:Come Join Kents Market in Brigham City for their annual Halloween Trick - or - Treat!
X-ALT-DESC;FMTTYPE=text/html:Come Join Kents Market in Brigham City for their annual Halloween Trick - or - Treat!&nbsp\;
LOCATION:Kent's: Brigham City 260 N Main St. Brigham City\, UT 84302
UID:e.3285.4172
SEQUENCE:3
DTSTAMP:20260423T205102Z
URL:https://members.boxelderchamber.com/events/details/trick-or-treat-kents-market-4172
END:VEVENT

END:VCALENDAR
