BEGIN:VCALENDAR
VERSION:2.0
PRODID:-//ChamberMaster//Event Calendar 2.0//EN
METHOD:PUBLISH
X-PUBLISHED-TTL:P3D
REFRESH-INTERVAL:P3D
CALSCALE:GREGORIAN
BEGIN:VEVENT
DTSTART:20231026T210000Z
DTEND:20231027T000000Z
X-MICROSOFT-CDO-ALLDAYEVENT:FALSE
SUMMARY:Trunk or Treat: Brigham City Hospital
DESCRIPTION:Join the Brigham City Community Hospital at their annual Trunk or Treat!
X-ALT-DESC;FMTTYPE=text/html:Join the Brigham City Community Hospital at their annual Trunk or Treat!&nbsp\;
LOCATION:950 Medical Dr. Brigham City\, UT 84302
UID:e.3285.4164
SEQUENCE:3
DTSTAMP:20260423T221924Z
URL:https://members.boxelderchamber.com/events/details/trunk-or-treat-brigham-city-hospital-4164
END:VEVENT

END:VCALENDAR
