BEGIN:VCALENDAR
VERSION:2.0
PRODID:-//ChamberMaster//Event Calendar 2.0//EN
METHOD:PUBLISH
X-PUBLISHED-TTL:P3D
REFRESH-INTERVAL:P3D
CALSCALE:GREGORIAN
BEGIN:VEVENT
DTSTART:20231026T230000Z
DTEND:20231027T010000Z
X-MICROSOFT-CDO-ALLDAYEVENT:FALSE
SUMMARY:Trunk or Treat: Hampton Inn
DESCRIPTION:Hapmton Inn invites you to join them at their Trunk or Treat and Haunted House event! There will be candy\, games\, and fun for all.
X-ALT-DESC;FMTTYPE=text/html:Hapmton Inn invites you to join them at their Trunk or Treat and Haunted House event! There will be candy\, games\, and fun for all.&nbsp\;
LOCATION:Hapmton Inn - Brigham City 40 N Main Street Brigham City\, UT 84302
UID:e.3285.4140
SEQUENCE:3
DTSTAMP:20260423T204804Z
URL:https://members.boxelderchamber.com/events/details/trunk-or-treat-hampton-inn-4140
END:VEVENT

END:VCALENDAR
