BEGIN:VCALENDAR
VERSION:2.0
PRODID:-//ChamberMaster//Event Calendar 2.0//EN
METHOD:PUBLISH
X-PUBLISHED-TTL:P3D
REFRESH-INTERVAL:P3D
CALSCALE:GREGORIAN
BEGIN:VEVENT
DTSTART:20231027T230000Z
DTEND:20231028T010000Z
X-MICROSOFT-CDO-ALLDAYEVENT:FALSE
SUMMARY:Trunk or Treat: Heritage Auto of Brigham City
DESCRIPTION:Come join Heritage Auto for their Trunk or Treat! Activities for all ages!
X-ALT-DESC;FMTTYPE=text/html:Come join Heritage Auto for their Trunk or Treat! Activities for all ages!&nbsp\;
LOCATION:647 S. Main Street Brigham City\, UT 84302
UID:e.3285.4166
SEQUENCE:3
DTSTAMP:20260423T205426Z
URL:https://members.boxelderchamber.com/events/details/trunk-or-treat-heritage-auto-of-brigham-city-4166
END:VEVENT

END:VCALENDAR
