BEGIN:VCALENDAR
VERSION:2.0
PRODID:-//ChamberMaster//Event Calendar 2.0//EN
METHOD:PUBLISH
X-PUBLISHED-TTL:P3D
REFRESH-INTERVAL:P3D
CALSCALE:GREGORIAN
BEGIN:VEVENT
DTSTART:20231024T000000Z
DTEND:20231024T020000Z
X-MICROSOFT-CDO-ALLDAYEVENT:FALSE
SUMMARY:Trunk - R- Treat
DESCRIPTION:Come grab some candy and get to know the Brigham City Police officers!
X-ALT-DESC;FMTTYPE=text/html:Come grab some candy and get to know the Brigham City Police officers!&nbsp\;
LOCATION:Pioneer Park 800 W Forest St. Brigham City\, UT 84302
UID:e.3285.4163
SEQUENCE:3
DTSTAMP:20260423T073722Z
URL:https://members.boxelderchamber.com/events/details/trunk-r-treat-4163
END:VEVENT

END:VCALENDAR
