BEGIN:VCALENDAR
VERSION:2.0
PRODID:-//ChamberMaster//Event Calendar 2.0//EN
METHOD:PUBLISH
X-PUBLISHED-TTL:P3D
REFRESH-INTERVAL:P3D
CALSCALE:GREGORIAN
BEGIN:VEVENT
DTSTART:20211120T000000Z
DTEND:20211120T003000Z
X-MICROSOFT-CDO-ALLDAYEVENT:FALSE
SUMMARY:We Do Balloons - Balloon Popping
DESCRIPTION:We Do Balloons is excited to have a Balloon Popping Ceremony to celebrate their new business!
X-ALT-DESC;FMTTYPE=text/html:We Do Balloons is excited to have a Balloon Popping Ceremony to celebrate their new business!
LOCATION:28 South Main Street Brigham City Utah (Drewes Floral & Gifts)
UID:e.3285.3401
SEQUENCE:3
DTSTAMP:20260423T164848Z
URL:https://members.boxelderchamber.com/events/details/we-do-balloons-balloon-popping-3401
END:VEVENT

END:VCALENDAR
