BEGIN:VCALENDAR
VERSION:2.0
PRODID:-//ChamberMaster//Event Calendar 2.0//EN
METHOD:PUBLISH
X-PUBLISHED-TTL:P3D
REFRESH-INTERVAL:P3D
CALSCALE:GREGORIAN
BEGIN:VEVENT
DTSTART:20231020T230000Z
DTEND:20231021T013000Z
X-MICROSOFT-CDO-ALLDAYEVENT:FALSE
SUMMARY:Witches on Main: Farmhouse Boutique
DESCRIPTION:There will be food\, drinks\, a costume contest\, a drawing contest\, and a treasure hunt.
X-ALT-DESC;FMTTYPE=text/html:There will be food\, drinks\, a costume contest\, a drawing contest\, and a treasure hunt.&nbsp\;
LOCATION:76 S Main Street Brigham City\, UT 84302
UID:e.3285.4156
SEQUENCE:3
DTSTAMP:20260423T221709Z
URL:https://members.boxelderchamber.com/events/details/witches-on-main-farmhouse-boutique-4156
END:VEVENT

END:VCALENDAR
